BEGIN:VCALENDAR
VERSION:2.0
PRODID:-//Volume.com//Volume.com//
BEGIN:VEVENT
SUMMARY:Tinsley Ellis Labour Of Love Tour
DTSTART;TZID=US/Central:20260420T173000
DTEND;TZID=US/Central:20260420T191500
DESCRIPTION:📺 Where to Watch:\nhttps://volume.com/bitterend/\n\n🎟️
  Get Your Ticket:\nhttps://volume.com/t/odxyGO/\n\nShow Details:\nTinsley 
 Ellis Labour Of Love Tour / James Maddock
END:VEVENT
BEGIN:VEVENT
SUMMARY:James Maddock
DTSTART;TZID=US/Central:20260420T191500
DTEND;TZID=US/Central:20260420T211500
DESCRIPTION:📺 Where to Watch:\nhttps://volume.com/bitterend/\n\n🎟️
  Get Your Ticket:\nhttps://volume.com/t/odxyGO/\n\nShow Details:\nTinsley 
 Ellis Labour Of Love Tour / James Maddock
END:VEVENT
END:VCALENDAR
