BEGIN:VCALENDAR
VERSION:2.0
PRODID:-//Volume.com//Volume.com//
BEGIN:VEVENT
SUMMARY:David Cook: Bronze
DTSTART;TZID=America/Los_Angeles:20260428T170000
DTEND;TZID=America/Los_Angeles:20260428T190000
DESCRIPTION:📺 Where to Watch:\nhttps://volume.com/davidcook/\n\n🎟️
  Get Your Ticket:\nhttps://volume.com/t/dEPiOL/\n\nShow Details:\nDavid Co
 ok Solo Acoustic
END:VEVENT
END:VCALENDAR
