BEGIN:VCALENDAR
VERSION:2.0
PRODID:-//Volume.com//Volume.com//
BEGIN:VEVENT
SUMMARY:David Cook: Gold
DTSTART;TZID=America/Los_Angeles:20260430T170000
DTEND;TZID=America/Los_Angeles:20260430T190000
DESCRIPTION:📺 Where to Watch:\nhttps://volume.com/davidcook/\n\n🎟️
  Get Your Ticket:\nhttps://volume.com/t/XeZBuE/\n\nShow Details:\nDavid Co
 ok: Gold
END:VEVENT
END:VCALENDAR
