BEGIN:VCALENDAR
VERSION:2.0
PRODID:-//Volume.com//Volume.com//
BEGIN:VEVENT
SUMMARY:More Jazz Fest Live audio recordings coming - including 2026 shows
DTSTART;TZID=America/Chicago:20260424T234400
DTEND;TZID=America/Chicago:20260424T235900
DESCRIPTION:📺 Where to Watch:\nhttps://volume.com/jazzfestlive/\n\n🎟
 ️ Get Your Ticket:\nhttps://volume.com/t/R0rcAi/\n\nShow Details:\nWe wi
 ll be adding more live recordings - including from this year's New Orleans
  Jazz & Heritage Festival taking place April 24 - May 3\, 2026
END:VEVENT
END:VCALENDAR
