BEGIN:VCALENDAR
VERSION:2.0
PRODID:-//Volume.com//Volume.com//
BEGIN:VEVENT
SUMMARY:wook+mornings | 04/20/2026 Smoke 'Em If Ya Got 'Em
DTSTART;TZID=America/New_York:20260420T120000
DTEND;TZID=America/New_York:20260420T130000
DESCRIPTION:📺 Where to Watch:\nhttps://volume.com/wookplus/\n\n🎟️ 
 Get Your Ticket:\nhttps://volume.com/t/8VcOCX/\n\nShow Details:\nwook+morn
 ings | 04/20/2026
END:VEVENT
END:VCALENDAR
